BEGIN:VCALENDAR
PRODID:-//eluceo/ical//2.0/EN
VERSION:2.0
CALSCALE:GREGORIAN
BEGIN:VEVENT
UID:7adff6a9059e9bd60069ce157124472b
DTSTAMP:20260420T105959Z
SUMMARY:Das Fischessen im Stadtzelt
DESCRIPTION:
URL:https://lenzburg.rotary1980.ch/fr/agenda/show/159209
DTSTART;TZID=Europe/Zurich:20230712T180000
DTEND;TZID=Europe/Zurich:20230712T235500
LOCATION:Stadtzelt auf dem Metzgplatz und Arkaden Alter Gemeindesaal
CATEGORIES:Rotary
END:VEVENT
BEGIN:VTIMEZONE
TZID:Europe/Zurich
BEGIN:DAYLIGHT
DTSTART:20230712T180000
TZNAME:CEST
TZOFFSETTO:+0200
TZOFFSETFROM:+0200
END:DAYLIGHT
END:VTIMEZONE
END:VCALENDAR
